BEGIN:VCALENDAR
VERSION:2.0
PRODID:icalendar-ruby
CALSCALE:GREGORIAN
METHOD:PUBLISH
BEGIN:VEVENT
DTSTAMP:20260423T010634Z
UID:69-592293@goodshepanglican.org
DTSTART:20261104T164500Z
DTEND:20261104T180000Z
CLASS:PUBLIC
CREATED:20260422T173322
DESCRIPTION:There's always a good pot of coffee brewing during the Wednesda
 y Eucharist service\, take a morning break with us to enjoy some great con
 versation. \n*Disclaimer - our admin Michelle may occassionally ask for h
 elp with folding bulletins or stuffing envelopes\, she chats with whoever 
 is sitting closest to her office\, so choose your seat wisely!\n 
LAST-MODIFIED:20260422T173322
LOCATION:Narthex
SUMMARY:Wednesday Coffee Hour
URL;VALUE=URI:https://www.goodshepanglican.org/events/wednesday-coffee-hour
 /2026-11-04
ATTACH;FILENAME=IMG_0982.jpg;FMTTYPE=image/jpeg:https://dq5pwpg1q8ru0.cloud
 front.net/2025/07/16/21/17/48/f884fb93-6ed5-4de4-84d8-eaa8be1ed8ab/IMG_098
 2.jpg
END:VEVENT
END:VCALENDAR
