BEGIN:VCALENDAR
VERSION:2.0
PRODID:icalendar-ruby
CALSCALE:GREGORIAN
METHOD:PUBLISH
BEGIN:VEVENT
DTSTAMP:20260423T034726Z
UID:125-591903@goodshepanglican.org
DTSTART:20260509T180000Z
DTEND:20260509T191500Z
CLASS:PUBLIC
CREATED:20260422T155049
DESCRIPTION:Get your green thumbs ready to plant! Natalie will have a varie
 ty of flowers and seeds for you to plant and take home. All the materials 
 will be ready for you when you arrive. After everything is planted join Na
 talie for lunch &amp\; dessert. \nParents are welcome to plant with their
  children\, but if you'd prefer to keep your fingers free from dirt\, chec
 k out the ACW Spring Sale in the Nave while the kids plant upstairs.\nThe 
 event and lunch are free\, please register by emailing Natalie at family@g
 oodshepanglican.org. We want our events to welcome and include everyone\, 
 please let Natalie know about any dietary restrictions!
LAST-MODIFIED:20260422T155049
LOCATION:Good Shepherd Anglican Church - Upper Hall
SUMMARY:Planting Party
URL;VALUE=URI:https://www.goodshepanglican.org/events/planting-party/2026-0
 5-09
ATTACH;FILENAME=Planting-Party.png;FMTTYPE=image/png:https://dq5pwpg1q8ru0.
 cloudfront.net/2026/04/22/21/50/49/dfe106e1-10af-4925-9be3-c9f722fbfd75/Pl
 anting-Party.png
END:VEVENT
END:VCALENDAR
