BEGIN:VCALENDAR
VERSION:2.0
PRODID:icalendar-ruby
CALSCALE:GREGORIAN
METHOD:PUBLISH
BEGIN:VEVENT
DTSTAMP:20260423T213243Z
UID:65-594672@goodshepanglican.org
DTSTART:20261003T020000Z
DTEND:20261003T040000Z
CLASS:PUBLIC
CREATED:20260423T144110
DESCRIPTION:Information about Alcoholics Anonymous for the Public\nAlcoholi
 cs Anonymous\, Saving Lives for 80 Plus Years\n\nThere is a solution\nThe 
 Primary Purpose of AA is to carry the message of recovery to the still-su
 ffering alcoholic.\nIf someone you care about has a drinking problem\, AA 
 may be the solution for them. \nFor 80-plus years\, AA has helped million
 s of alcoholics stop drinking. The AA Recovery Program works best when on
 e alcoholic shares their recovery experience with another. \nAlcoholics 
 Anonymous is a recovery program for alcoholism. By helping the public bett
 er understand alcoholism\, we can better help the still-suffering alcoholi
 c. When the public better understands the problem we can help remove some
  of the stigmas around the disease of alcoholism and better help those aff
 licted.\nAlcoholics Anonymous is a recovery program for alcoholism.\nAlcoh
 olism is an illness that affects people of all ages\, socioeconomic backg
 rounds\, genders\, abilities\, orientations\, nationalities\, cultures\, e
 thnicities\, and beliefs. Loss of control for the alcoholic is not measur
 ed by how long one drinks or how much one drinks. It is up to the individu
 al to determine if they have a drinking problem or if they want help as we
 ll as recovery.\nAA members share their experience\, strength\, and hope w
 ith anyone seeking help with a drinking problem\; they give person-to-pers
 on assistance and/or sponsorship to the alcoholic regardless of how they g
 et to AA.\nMembers sharing the AA recovery program with other alcoholics i
 s vital to recovery. Many newcomers best relate to those who have found re
 covery regardless of how hopeless they may feel as times.\nFor alternate m
 eeting options click here.\n
LAST-MODIFIED:20260423T144110
LOCATION:Upper Hall
SUMMARY:AA Meeting
URL;VALUE=URI:https://www.goodshepanglican.org/events/aa-meeting/2026-10-02
ATTACH;FILENAME=ECOS-Logo-Blue-e1668474518157-150x150.png;FMTTYPE=image/png
 :https://dq5pwpg1q8ru0.cloudfront.net/2025/07/16/20/09/41/b6379a3c-5d07-44
 fe-99e4-4275ef6b32b6/ECOS-Logo-Blue-e1668474518157-150x150.png
END:VEVENT
END:VCALENDAR
